BEGIN:VCALENDAR
PRODID:-//kirchenweb.ch gmbh//veranstaltungsausgabe v2.0//DE
VERSION:2.0
METHOD:PUBLISH
BEGIN:VEVENT
DTSTART:20261227T083000Z
DTEND:20261227T093000Z
LOCATION:Psychiatriezentrum Münsingen\, Hunzigenallee 1\, 3110 Münsingen
TRANSP:OPAQUE
SEQUENCE:0
UID:69949-veranstaltung@ref-muensingen.ch
DTSTAMP:20260330T061843Z
DESCRIPTION:Kontakt: sandra.altherr@ref-muensingen.ch\n\nWeitere Infos:
  https://www.ref-muensingen.ch/veranstaltung/69949
SUMMARY:Gottesdienst
PRIORITY:5
X-MICROSOFT-CDO-IMPORTANCE:1
CLASS:PUBLIC
END:VEVENT
END:VCALENDAR
