BEGIN:VCALENDAR
PRODID:-//kirchenweb.ch gmbh//veranstaltungsausgabe v2.0//DE
VERSION:2.0
METHOD:PUBLISH
BEGIN:VEVENT
DTSTART:20260908T130000Z
DTEND:20260908T150000Z
LOCATION:Schlossgutspielplatz\, \,
TRANSP:OPAQUE
SEQUENCE:0
UID:69209-veranstaltung@ref-muensingen.ch
DTSTAMP:20260204T094617Z
DESCRIPTION:Kontakt: Anna Hafner\n\nWeitere Infos:
  https://www.ref-muensingen.ch/veranstaltung/69209
SUMMARY:ELKi ungerwägs
PRIORITY:5
X-MICROSOFT-CDO-IMPORTANCE:1
CLASS:PUBLIC
END:VEVENT
END:VCALENDAR
