BEGIN:VCALENDAR
PRODID:-//kirchenweb.ch gmbh//veranstaltungsausgabe v2.0//DE
VERSION:2.0
METHOD:PUBLISH
BEGIN:VEVENT
DTSTART:20261030T143000Z
DTEND:20261030T163000Z
LOCATION:Chappeli\, Bernstrasse 23a\, 3110 Münsingen
TRANSP:OPAQUE
SEQUENCE:0
UID:68875-veranstaltung@ref-muensingen.ch
DTSTAMP:20260114T085433Z
DESCRIPTION:Kontakt: Pfr. Simon Grebasch\n\nWeitere Infos:
  https://www.ref-muensingen.ch/veranstaltung/68875
SUMMARY:Familiewiehnacht: Probe
PRIORITY:5
X-MICROSOFT-CDO-IMPORTANCE:1
CLASS:PUBLIC
END:VEVENT
END:VCALENDAR
