BEGIN:VCALENDAR
PRODID:-//kirchenweb.ch gmbh//veranstaltungsausgabe v2.0//DE
VERSION:2.0
METHOD:PUBLISH
BEGIN:VEVENT
DTSTART:20261207T130000Z
DTEND:20261207T160000Z
LOCATION:Kath. Pfarreizentrum\, Löwenmattweg 29\, 3110 Münsingen
TRANSP:OPAQUE
SEQUENCE:0
UID:68208-veranstaltung@ref-muensingen.ch
DTSTAMP:20251114T101140Z
DESCRIPTION:Kontakt: Theologin Judith von Ah\n\nWeitere Infos:
  https://www.ref-muensingen.ch/veranstaltung/68208
SUMMARY:Biografiekurs - «Älterwerden mit Zuversicht»
PRIORITY:5
X-MICROSOFT-CDO-IMPORTANCE:1
CLASS:PUBLIC
END:VEVENT
END:VCALENDAR
