BEGIN:VCALENDAR
PRODID:-//kirchenweb.ch gmbh//veranstaltungsausgabe v2.0//DE
VERSION:2.0
METHOD:PUBLISH
BEGIN:VEVENT
DTSTART:20270117T093000Z
DTEND:20270117T103000Z
LOCATION:Kath. Kirche Münsingen\, Löwenmattweg 29\, 3110 Münsingen
TRANSP:OPAQUE
SEQUENCE:0
UID:68196-veranstaltung@ref-muensingen.ch
DTSTAMP:20251114T080317Z
DESCRIPTION:Kontakt: Felix Klingenbeck\n\nWeitere Infos:
  https://www.ref-muensingen.ch/veranstaltung/68196
SUMMARY:Allianzgottesdienst
PRIORITY:5
X-MICROSOFT-CDO-IMPORTANCE:1
CLASS:PUBLIC
END:VEVENT
END:VCALENDAR
