BEGIN:VCALENDAR
PRODID:-//kirchenweb.ch gmbh//veranstaltungsausgabe v2.0//DE
VERSION:2.0
METHOD:PUBLISH
BEGIN:VEVENT
DTSTART:20260730T080000Z
DTEND:20260730T090000Z
LOCATION:Senevita Dorfmatt\, Dorfmattweg 2\, 3110 Münsingen
TRANSP:OPAQUE
SEQUENCE:0
UID:68139-veranstaltung@ref-muensingen.ch
DTSTAMP:20251128T120722Z
DESCRIPTION:Musikalische Begleitung: Kath. Pfarrei\n\nKontakt: Kath.
  Pfarreileiter Felix Klingenbeck\n\nWeitere Infos:
  https://www.ref-muensingen.ch/veranstaltung/68139
SUMMARY:Andacht Senevita
PRIORITY:5
X-MICROSOFT-CDO-IMPORTANCE:1
CLASS:PUBLIC
END:VEVENT
END:VCALENDAR
