BEGIN:VCALENDAR
PRODID:-//kirchenweb.ch gmbh//veranstaltungsausgabe v2.0//DE
VERSION:2.0
METHOD:PUBLISH
BEGIN:VEVENT
DTSTART:20260917T080000Z
DTEND:20260917T090000Z
LOCATION:Alterssitz Neuhaus\, Neuhaus 1\, 3110 Münsingen
TRANSP:OPAQUE
SEQUENCE:0
UID:68124-veranstaltung@ref-muensingen.ch
DTSTAMP:20251128T120458Z
DESCRIPTION:Musikalische Begleitung: Barbara Rentsch\n\nKontakt: Pfrn.
  Anita Zocchi\n\nWeitere Infos:
  https://www.ref-muensingen.ch/veranstaltung/68124
SUMMARY:Andacht Neuhaus
PRIORITY:5
X-MICROSOFT-CDO-IMPORTANCE:1
CLASS:PUBLIC
END:VEVENT
END:VCALENDAR
