BEGIN:VCALENDAR
PRODID:-//kirchenweb.ch gmbh//veranstaltungsausgabe v2.0//DE
VERSION:2.0
METHOD:PUBLISH
BEGIN:VEVENT
DTSTART:20260421T083000Z
DTEND:20260421T093000Z
LOCATION:Altersresidenz Bärenmatte\, Bärenmatte 1\, 3110 Münsingen
TRANSP:OPAQUE
SEQUENCE:0
UID:68109-veranstaltung@ref-muensingen.ch
DTSTAMP:20251128T103207Z
DESCRIPTION:Musikalische Begleitung: Barbara Rentsch\n\nKontakt: Pfr.
  Simon Grebasch\n\nWeitere Infos:
  https://www.ref-muensingen.ch/veranstaltung/68109
SUMMARY:Andacht Bärenmatte
PRIORITY:5
X-MICROSOFT-CDO-IMPORTANCE:1
CLASS:PUBLIC
END:VEVENT
END:VCALENDAR
