BEGIN:VCALENDAR
PRODID:-//kirchenweb.ch gmbh//veranstaltungsausgabe v2.0//DE
VERSION:2.0
METHOD:PUBLISH
BEGIN:VEVENT
DTSTART:20260721T083000Z
DTEND:20260721T093000Z
LOCATION:Alterszentrum Schlossgut\, Schlossstrasse 1\, 3110 Münsingen
TRANSP:OPAQUE
SEQUENCE:0
UID:68088-veranstaltung@ref-muensingen.ch
DTSTAMP:20260313T085750Z
DESCRIPTION:Musikalische Begleitung: Barbara Rentsch\n\nKontakt: Pfr.
  Christoph Beutler\n\nWeitere Infos:
  https://www.ref-muensingen.ch/veranstaltung/68088
SUMMARY:Andacht Alterszentrum Schlossgut
PRIORITY:5
X-MICROSOFT-CDO-IMPORTANCE:1
CLASS:PUBLIC
END:VEVENT
END:VCALENDAR
