BEGIN:VCALENDAR
PRODID:-//kirchenweb.ch gmbh//veranstaltungsausgabe v2.0//DE
VERSION:2.0
METHOD:PUBLISH
BEGIN:VEVENT
DTSTART:20260517T073000Z
DTEND:20260517T083000Z
LOCATION:Psychiatriezentrum Münsingen\, Hunzigenallee 1\, 3110 Münsingen
TRANSP:OPAQUE
SEQUENCE:0
UID:68032-veranstaltung@ref-muensingen.ch
DTSTAMP:20251106T131438Z
DESCRIPTION:Kontakt: Felix Klingenbeck\n\nWeitere Infos:
  https://www.ref-muensingen.ch/veranstaltung/68032
SUMMARY:Gottesdienst
PRIORITY:5
X-MICROSOFT-CDO-IMPORTANCE:1
CLASS:PUBLIC
END:VEVENT
END:VCALENDAR
