BEGIN:VCALENDAR
PRODID:-//kirchenweb.ch gmbh//veranstaltungsausgabe v2.0//DE
VERSION:2.0
METHOD:PUBLISH
BEGIN:VEVENT
DTSTART:20260915T081500Z
DTEND:20260915T091500Z
LOCATION:Altersheim Wydenhof\, Worbstrasse 40\, 3113 Rubigen
TRANSP:OPAQUE
SEQUENCE:0
UID:68026-veranstaltung@ref-muensingen.ch
DTSTAMP:20251106T123945Z
DESCRIPTION:Kontakt: Pfr. Simon Grebasch\n\nWeitere Infos:
  https://www.ref-muensingen.ch/veranstaltung/68026
SUMMARY:Andacht Wydenhof
PRIORITY:5
X-MICROSOFT-CDO-IMPORTANCE:1
CLASS:PUBLIC
END:VEVENT
END:VCALENDAR
