BEGIN:VCALENDAR
PRODID:-//kirchenweb.ch gmbh//veranstaltungsausgabe v2.0//DE
VERSION:2.0
METHOD:PUBLISH
BEGIN:VEVENT
DTSTART:20260630T081500Z
DTEND:20260630T091500Z
LOCATION:Altersheim Wydenhof\, Worbstrasse 40\, 3113 Rubigen
TRANSP:OPAQUE
SEQUENCE:0
UID:68023-veranstaltung@ref-muensingen.ch
DTSTAMP:20251106T123917Z
DESCRIPTION:Kontakt: Pfr. Matthias Galli\n\nWeitere Infos:
  https://www.ref-muensingen.ch/veranstaltung/68023
SUMMARY:Andacht Wydenhof
PRIORITY:5
X-MICROSOFT-CDO-IMPORTANCE:1
CLASS:PUBLIC
END:VEVENT
END:VCALENDAR
