BEGIN:VCALENDAR
PRODID:-//kirchenweb.ch gmbh//veranstaltungsausgabe v2.0//DE
VERSION:2.0
METHOD:PUBLISH
BEGIN:VEVENT
DTSTART:20260428T081500Z
DTEND:20260428T091500Z
LOCATION:Altersheim Wydenhof\, Worbstrasse 40\, 3113 Rubigen
TRANSP:OPAQUE
SEQUENCE:0
UID:68021-veranstaltung@ref-muensingen.ch
DTSTAMP:20251106T123854Z
DESCRIPTION:Kontakt: Pfr. Christoph Beutler\n\nWeitere Infos:
  https://www.ref-muensingen.ch/veranstaltung/68021
SUMMARY:Andacht Wydenhof
PRIORITY:5
X-MICROSOFT-CDO-IMPORTANCE:1
CLASS:PUBLIC
END:VEVENT
END:VCALENDAR
