BEGIN:VCALENDAR
PRODID:-//kirchenweb.ch gmbh//veranstaltungsausgabe v2.0//DE
VERSION:2.0
METHOD:PUBLISH
BEGIN:VEVENT
DTSTART:20260512T081500Z
DTEND:20260512T091500Z
LOCATION:Altersheim Beitenwil\, Beitenwil 140\, 3113 Rubigen
TRANSP:OPAQUE
SEQUENCE:0
UID:68017-veranstaltung@ref-muensingen.ch
DTSTAMP:20251106T105931Z
DESCRIPTION:Musikalische Begleitung: Uta Pfautsch\n\nKontakt: Pfrn. Lore
  Rahe Schopfer\n\nWeitere Infos:
  https://www.ref-muensingen.ch/veranstaltung/68017
SUMMARY:Andacht Beitenwil
PRIORITY:5
X-MICROSOFT-CDO-IMPORTANCE:1
CLASS:PUBLIC
END:VEVENT
END:VCALENDAR
