BEGIN:VCALENDAR
PRODID:-//kirchenweb.ch gmbh//veranstaltungsausgabe v2.0//DE
VERSION:2.0
METHOD:PUBLISH
BEGIN:VEVENT
DTSTART:20260526T081500Z
DTEND:20260526T091500Z
LOCATION:Altersheim Beitenwil\, Beitenwil 140\, 3113 Rubigen
TRANSP:OPAQUE
SEQUENCE:0
UID:67997-veranstaltung@ref-muensingen.ch
DTSTAMP:20251106T104454Z
DESCRIPTION:Musikalische Begleitung: Barbara Rentsch\n\nKontakt:
  Pfarrperson KG Worb\n\nWeitere Infos:
  https://www.ref-muensingen.ch/veranstaltung/67997
SUMMARY:Andacht Beitenwil
PRIORITY:5
X-MICROSOFT-CDO-IMPORTANCE:1
CLASS:PUBLIC
END:VEVENT
END:VCALENDAR
