BEGIN:VCALENDAR
PRODID:-//kirchenweb.ch gmbh//veranstaltungsausgabe v2.0//DE
VERSION:2.0
METHOD:PUBLISH
BEGIN:VEVENT
DTSTART:20260910T173000Z
DTEND:20260910T183000Z
LOCATION:Ref. Kirche Kleinhöchstetten\, Kleinhöchstetten\,
TRANSP:OPAQUE
SEQUENCE:0
UID:67868-veranstaltung@ref-muensingen.ch
DTSTAMP:20251028T154230Z
DESCRIPTION:Stille vor dem Bettag - Christliche Meditation\n\nKontakt:
  Pfr. Christoph Beutler\n\nWeitere Infos:
  https://www.ref-muensingen.ch/veranstaltung/67868
SUMMARY:Oasenstunde
PRIORITY:5
X-MICROSOFT-CDO-IMPORTANCE:1
CLASS:PUBLIC
END:VEVENT
END:VCALENDAR
