BEGIN:VCALENDAR
PRODID:-//kirchenweb.ch gmbh//veranstaltungsausgabe v2.0//DE
VERSION:2.0
METHOD:PUBLISH
BEGIN:VEVENT
DTSTART:20260513T073000Z
DTEND:20260513T081500Z
LOCATION:Ref. Kirche Münsingen\, Bernstrasse 23\, 3110 Münsingen
TRANSP:OPAQUE
SEQUENCE:0
UID:67551-veranstaltung@ref-muensingen.ch
DTSTAMP:20251204T090903Z
DESCRIPTION:Kontakt: Pfr. Simon Grebasch\n\nWeitere Infos:
  https://www.ref-muensingen.ch/veranstaltung/67551
SUMMARY:Singe mit de Chliine Münsingen - Kirche
PRIORITY:5
X-MICROSOFT-CDO-IMPORTANCE:1
CLASS:PUBLIC
END:VEVENT
END:VCALENDAR
