BEGIN:VCALENDAR
PRODID:-//kirchenweb.ch gmbh//veranstaltungsausgabe v2.0//DE
VERSION:2.0
METHOD:PUBLISH
BEGIN:VEVENT
DTSTART:20261216T083000Z
DTEND:20261216T091500Z
LOCATION:Kirchgemeindehaus Münsingen\, Schlossstrasse 11\, 3110
  Münsingen
TRANSP:OPAQUE
SEQUENCE:0
UID:67526-veranstaltung@ref-muensingen.ch
DTSTAMP:20251003T144025Z
DESCRIPTION:Kontakt: Pfr. Simon Grebasch\n\nWeitere Infos:
  https://www.ref-muensingen.ch/veranstaltung/67526
SUMMARY:Singe mit de Chliine Münsingen
PRIORITY:5
X-MICROSOFT-CDO-IMPORTANCE:1
CLASS:PUBLIC
END:VEVENT
END:VCALENDAR
