BEGIN:VCALENDAR
PRODID:-//kirchenweb.ch gmbh//veranstaltungsausgabe v2.0//DE
VERSION:2.0
METHOD:PUBLISH
BEGIN:VEVENT
DTSTART:20270428T120000Z
DTEND:20270428T140000Z
LOCATION:Kirchgemeindehaus Münsingen\, Schlossstrasse 11\, 3110
  Münsingen
TRANSP:OPAQUE
SEQUENCE:0
UID:67460-veranstaltung@ref-muensingen.ch
DTSTAMP:20250918T083711Z
DESCRIPTION:Kontakt: Pfrn. Anita Zocchi\n\nWeitere Infos:
  https://www.ref-muensingen.ch/veranstaltung/67460
SUMMARY:Seniorennachmittag Münsingen
PRIORITY:5
X-MICROSOFT-CDO-IMPORTANCE:1
CLASS:PUBLIC
END:VEVENT
END:VCALENDAR
