BEGIN:VCALENDAR
PRODID:-//kirchenweb.ch gmbh//veranstaltungsausgabe v2.0//DE
VERSION:2.0
METHOD:PUBLISH
BEGIN:VEVENT
DTSTART:20261216T130000Z
DTEND:20261216T150000Z
LOCATION:Kirchgemeindehaus Münsingen\, Schlossstrasse 11\, 3110
  Münsingen
TRANSP:OPAQUE
SEQUENCE:0
UID:67451-veranstaltung@ref-muensingen.ch
DTSTAMP:20250920T132531Z
DESCRIPTION:Kontakt: Pfrn. Anita Zocchi\n\nWeitere Infos:
  https://www.ref-muensingen.ch/veranstaltung/67451
SUMMARY:Seniorennachmittag Münsingen
PRIORITY:5
X-MICROSOFT-CDO-IMPORTANCE:1
CLASS:PUBLIC
END:VEVENT
END:VCALENDAR
