BEGIN:VCALENDAR
PRODID:-//kirchenweb.ch gmbh//veranstaltungsausgabe v2.0//DE
VERSION:2.0
METHOD:PUBLISH
BEGIN:VEVENT
DTSTART:20261207T080000Z
DTEND:20261207T100000Z
LOCATION:Kirchgemeindehaus Münsingen\, Schlossstrasse 11\, 3110
  Münsingen
TRANSP:OPAQUE
SEQUENCE:0
UID:67439-veranstaltung@ref-muensingen.ch
DTSTAMP:20260413T064912Z
DESCRIPTION:WENIGER VERGESSLICH SEIN\nSICH BESSER KONZENTRIEREN\nHÖHERE
  MERKFÄHIGKEIT\nWAHRNEHMUNG VERBESSERN\n\n\nKontakt: Therese Steiner 076
  400 82 01\n\nWeitere Infos:
  https://www.ref-muensingen.ch/veranstaltung/67439
SUMMARY:Fit im Chopf 60plus Montag (FitMo12.10)
PRIORITY:5
X-MICROSOFT-CDO-IMPORTANCE:1
CLASS:PUBLIC
END:VEVENT
END:VCALENDAR
