BEGIN:VCALENDAR
PRODID:-//kirchenweb.ch gmbh//veranstaltungsausgabe v2.0//DE
VERSION:2.0
METHOD:PUBLISH
BEGIN:VEVENT
DTSTART:20260614T073000Z
DTEND:20260614T083000Z
LOCATION:Psychiatriezentrum Münsingen\, Hunzigenallee 1\, 3110 Münsingen
TRANSP:OPAQUE
SEQUENCE:0
UID:67342-veranstaltung@ref-muensingen.ch
DTSTAMP:20250909T071856Z
DESCRIPTION:Kontakt: Anita Zocchi\n\nWeitere Infos:
  https://www.ref-muensingen.ch/veranstaltung/67342
SUMMARY:Gottesdienst
PRIORITY:5
X-MICROSOFT-CDO-IMPORTANCE:1
CLASS:PUBLIC
END:VEVENT
END:VCALENDAR
