BEGIN:VCALENDAR
PRODID:-//kirchenweb.ch gmbh//veranstaltungsausgabe v2.0//DE
VERSION:2.0
METHOD:PUBLISH
BEGIN:VEVENT
DTSTART:20260529T163000Z
DTEND:20260529T190000Z
LOCATION:im und ums Kirchgemeindehaus\, Schlossstrasse 11\, 3110
  Münsingen
TRANSP:OPAQUE
SEQUENCE:0
UID:67340-veranstaltung@ref-muensingen.ch
DTSTAMP:20251119T094400Z
DESCRIPTION:Der Treff für Kids der 3. und 4. Klasse - zum Mitgestalten!
 \nEs erwartet dich ein bunter Abend mit feinem Znacht\, Input und Spiel &
  Spass.\nDas Programm dauert bis 20.30 Uhr\, der Treff ist bis 21 Uhr
  offen für dich.\n\nKontakt: Anna Hafner\n\nWeitere Infos:
  https://www.ref-muensingen.ch/veranstaltung/67340
SUMMARY:Kids-Crew
PRIORITY:5
X-MICROSOFT-CDO-IMPORTANCE:1
CLASS:PUBLIC
END:VEVENT
END:VCALENDAR
