BEGIN:VCALENDAR
PRODID:-//kirchenweb.ch gmbh//veranstaltungsausgabe v2.0//DE
VERSION:2.0
METHOD:PUBLISH
BEGIN:VEVENT
DTSTART:20260905T083000Z
DTEND:20260905T090000Z
LOCATION:Kath. Kirche Münsingen\, Löwenmattweg 29\, 3110 Münsingen
TRANSP:OPAQUE
SEQUENCE:0
UID:67304-veranstaltung@ref-muensingen.ch
DTSTAMP:20250905T070752Z
DESCRIPTION:Kontakt: Kath. Pfarreileiter Felix Klingenbeck\n\nWeitere
  Infos: https://www.ref-muensingen.ch/veranstaltung/67304
SUMMARY:Fyre mit de Chlyne
PRIORITY:5
X-MICROSOFT-CDO-IMPORTANCE:1
CLASS:PUBLIC
END:VEVENT
END:VCALENDAR
