BEGIN:VCALENDAR
PRODID:-//kirchenweb.ch gmbh//veranstaltungsausgabe v2.0//DE
VERSION:2.0
METHOD:PUBLISH
BEGIN:VEVENT
DTSTART:20260917T170000Z
DTEND:20260917T190000Z
LOCATION:Kirchgemeindehaus Münsingen\, Schlossstrasse 11\, 3110
  Münsingen
TRANSP:OPAQUE
SEQUENCE:0
UID:67278-veranstaltung@ref-muensingen.ch
DTSTAMP:20260306T130420Z
DESCRIPTION:Lesung mit Esther Pauchard\nDie Autorin liest aus ihrem
  neusten Krimi\, der im Herbst 2026 erscheinen wird. Über den Titel\,
  resp. die Handlung dieser Neuerscheinung ist noch nichts bekannt –
  lassen wir uns überraschen. \n\n\nKontakt: Pfrn. Lore Rahe Schopfer\n
 \nWeitere Infos: https://www.ref-muensingen.ch/veranstaltung/67278
SUMMARY:Frauen begegnen sich - Lesung
PRIORITY:5
X-MICROSOFT-CDO-IMPORTANCE:1
CLASS:PUBLIC
END:VEVENT
END:VCALENDAR
