BEGIN:VCALENDAR
PRODID:-//kirchenweb.ch gmbh//veranstaltungsausgabe v2.0//DE
VERSION:2.0
METHOD:PUBLISH
BEGIN:VEVENT
DTSTART:20261211T174500Z
DTEND:20261211T183000Z
LOCATION:Ref. Kirche Münsingen\, Bernstrasse 23\, 3110 Münsingen
TRANSP:OPAQUE
SEQUENCE:0
UID:67253-veranstaltung@ref-muensingen.ch
DTSTAMP:20260202T142419Z
DESCRIPTION:Kontakt: Caroline Marti\n\nWeitere Infos:
  https://www.ref-muensingen.ch/veranstaltung/67253
SUMMARY:Orgelvesper
PRIORITY:5
X-MICROSOFT-CDO-IMPORTANCE:1
CLASS:PUBLIC
END:VEVENT
END:VCALENDAR
