BEGIN:VCALENDAR
PRODID:-//kirchenweb.ch gmbh//veranstaltungsausgabe v2.0//DE
VERSION:2.0
METHOD:PUBLISH
BEGIN:VEVENT
DTSTART:20260911T173000Z
DTEND:20260911T183000Z
LOCATION:Ref. Kirche Münsingen\, Bernstrasse 23\, 3110 Münsingen
TRANSP:OPAQUE
SEQUENCE:0
UID:66987-veranstaltung@ref-muensingen.ch
DTSTAMP:20250903T092105Z
DESCRIPTION:Input: Christine Scheidegger\n\nKontakt: Christine Scheidegger
 \n\nWeitere Infos: https://www.ref-muensingen.ch/veranstaltung/66987
SUMMARY:Lobpriiszyt
PRIORITY:5
X-MICROSOFT-CDO-IMPORTANCE:1
CLASS:PUBLIC
END:VEVENT
END:VCALENDAR
