BEGIN:VCALENDAR
PRODID:-//kirchenweb.ch gmbh//veranstaltungsausgabe v2.0//DE
VERSION:2.0
METHOD:PUBLISH
BEGIN:VEVENT
DTSTART:20260814T173000Z
DTEND:20260814T183000Z
LOCATION:Ref. Kirche Münsingen\, Bernstrasse 23\, 3110 Münsingen
TRANSP:OPAQUE
SEQUENCE:0
UID:66986-veranstaltung@ref-muensingen.ch
DTSTAMP:20250903T092156Z
DESCRIPTION:Input: Christoph Beutler\n\nKontakt: Pfr. Christoph Beutler\n
 \nWeitere Infos: https://www.ref-muensingen.ch/veranstaltung/66986
SUMMARY:Lobpriiszyt
PRIORITY:5
X-MICROSOFT-CDO-IMPORTANCE:1
CLASS:PUBLIC
END:VEVENT
END:VCALENDAR
