BEGIN:VCALENDAR
PRODID:-//kirchenweb.ch gmbh//veranstaltungsausgabe v2.0//DE
VERSION:2.0
METHOD:PUBLISH
BEGIN:VEVENT
DTSTART:20261005T180000Z
DTEND:20261005T190000Z
LOCATION:Ref. Kirche Kleinhöchstetten\, Kleinhöchstetten\, 3113 Rubigen
TRANSP:OPAQUE
SEQUENCE:0
UID:66880-veranstaltung@ref-muensingen.ch
DTSTAMP:20251028T154610Z
DESCRIPTION:Wir singen acapella Lieder aus dem (roten) reformierten
  Gesangbuch und dem (blauen) Riseup-Liederbuch. Die Anwesenden wählen die
  Lieder aus.\n\n\nKontakt: Pfr. Christoph Beutler\n\nWeitere Infos:
  https://www.ref-muensingen.ch/veranstaltung/66880
SUMMARY:Offenes Singen in Kleinhöchstetten
PRIORITY:5
X-MICROSOFT-CDO-IMPORTANCE:1
CLASS:PUBLIC
END:VEVENT
END:VCALENDAR
