BEGIN:VCALENDAR
PRODID:-//kirchenweb.ch gmbh//veranstaltungsausgabe v2.0//DE
VERSION:2.0
METHOD:PUBLISH
BEGIN:VEVENT
DTSTART:20260906T080000Z
DTEND:20260906T090000Z
LOCATION:Trimstein Schulhaus\, Dorfstrasse 36b\, 3083 Trimstein
TRANSP:OPAQUE
SEQUENCE:0
UID:66842-veranstaltung@ref-muensingen.ch
DTSTAMP:20251127T075216Z
DESCRIPTION:Ausführliche Informationen:
 \nhttps://www.ref-muensingen.ch/dorfgottesdienst-trimstein\n\nKontakt:
  Pfr. Simon Grebasch\n\nWeitere Infos:
  https://www.ref-muensingen.ch/veranstaltung/66842
SUMMARY:Dorfgottesdienst Trimstein für Chly und Gross
PRIORITY:5
X-MICROSOFT-CDO-IMPORTANCE:1
CLASS:PUBLIC
END:VEVENT
END:VCALENDAR
