BEGIN:VCALENDAR
PRODID:-//kirchenweb.ch gmbh//veranstaltungsausgabe v2.0//DE
VERSION:2.0
METHOD:PUBLISH
BEGIN:VEVENT
DTSTART:20261224T160000Z
DTEND:20261224T170000Z
LOCATION:Ref. Kirche Münsingen\, Bernstrasse 23\, 3110 Münsingen
TRANSP:OPAQUE
SEQUENCE:0
UID:66836-veranstaltung@ref-muensingen.ch
DTSTAMP:20250903T072732Z
DESCRIPTION:Kontakt: Anita Zocchi\n\nWeitere Infos:
  https://www.ref-muensingen.ch/veranstaltung/66836
SUMMARY:Heiligabend-Vesper
PRIORITY:5
X-MICROSOFT-CDO-IMPORTANCE:1
CLASS:PUBLIC
END:VEVENT
END:VCALENDAR
