BEGIN:VCALENDAR
PRODID:-//kirchenweb.ch gmbh//veranstaltungsausgabe v2.0//DE
VERSION:2.0
METHOD:PUBLISH
BEGIN:VEVENT
DTSTART:20261213T090000Z
DTEND:20261213T100000Z
LOCATION:Ref. Kirche Münsingen\, Bernstrasse 23\, 3110 Münsingen
TRANSP:OPAQUE
SEQUENCE:0
UID:66833-veranstaltung@ref-muensingen.ch
DTSTAMP:20260209T073107Z
DESCRIPTION:Kontakt: Matthias Galli\n\nWeitere Infos:
  https://www.ref-muensingen.ch/veranstaltung/66833
SUMMARY:Gottesdienst zum 3. Advent und Abschied von Organistin Caroline
  Marti
PRIORITY:5
X-MICROSOFT-CDO-IMPORTANCE:1
CLASS:PUBLIC
END:VEVENT
END:VCALENDAR
