BEGIN:VCALENDAR
PRODID:-//kirchenweb.ch gmbh//veranstaltungsausgabe v2.0//DE
VERSION:2.0
METHOD:PUBLISH
BEGIN:VEVENT
DTSTART:20261205T153000Z
DTEND:20261205T163000Z
LOCATION:Ref. Kirche Münsingen\, Bernstrasse 23\, 3110 Münsingen
TRANSP:OPAQUE
SEQUENCE:0
UID:66831-veranstaltung@ref-muensingen.ch
DTSTAMP:20260114T085625Z
DESCRIPTION:Kontakt: Pfr. Simon Grebasch\n\nWeitere Infos:
  https://www.ref-muensingen.ch/veranstaltung/66831
SUMMARY:Familiewiehnacht Aufführung
PRIORITY:5
X-MICROSOFT-CDO-IMPORTANCE:1
CLASS:PUBLIC
END:VEVENT
END:VCALENDAR
