BEGIN:VCALENDAR
PRODID:-//kirchenweb.ch gmbh//veranstaltungsausgabe v2.0//DE
VERSION:2.0
METHOD:PUBLISH
BEGIN:VEVENT
DTSTART:20261206T090000Z
DTEND:20261206T100000Z
LOCATION:Ref. Kirche Münsingen\, Bernstrasse 23\, 3110 Münsingen
TRANSP:OPAQUE
SEQUENCE:0
UID:66830-veranstaltung@ref-muensingen.ch
DTSTAMP:20251030T124453Z
DESCRIPTION:Kontakt: Anita Zocchi\n\nWeitere Infos:
  https://www.ref-muensingen.ch/veranstaltung/66830
SUMMARY:Gottesdienst zum 2. Advent
PRIORITY:5
X-MICROSOFT-CDO-IMPORTANCE:1
CLASS:PUBLIC
END:VEVENT
END:VCALENDAR
