BEGIN:VCALENDAR
PRODID:-//kirchenweb.ch gmbh//veranstaltungsausgabe v2.0//DE
VERSION:2.0
METHOD:PUBLISH
BEGIN:VEVENT
DTSTART:20261206T083000Z
DTEND:20261206T093000Z
LOCATION:Ref. Kirche Kleinhöchstetten\, Kleinhöchstetten\, 3113 Rubigen
TRANSP:OPAQUE
SEQUENCE:0
UID:66829-veranstaltung@ref-muensingen.ch
DTSTAMP:20251023T081542Z
DESCRIPTION:Kontakt: Matthias Galli\n\nWeitere Infos:
  https://www.ref-muensingen.ch/veranstaltung/66829
SUMMARY:Gottesdienst zum 2. Advent
PRIORITY:5
X-MICROSOFT-CDO-IMPORTANCE:1
CLASS:PUBLIC
END:VEVENT
END:VCALENDAR
