BEGIN:VCALENDAR
PRODID:-//kirchenweb.ch gmbh//veranstaltungsausgabe v2.0//DE
VERSION:2.0
METHOD:PUBLISH
BEGIN:VEVENT
DTSTART:20260816T080000Z
DTEND:20260816T090000Z
LOCATION:Ref. Kirche Münsingen\, Bernstrasse 23\, 3110 Münsingen
TRANSP:OPAQUE
SEQUENCE:0
UID:66787-veranstaltung@ref-muensingen.ch
DTSTAMP:20260312T143748Z
DESCRIPTION:Anfangs-Segensfeier\, mit besonderer Begrüssung der KUW 1\n
 \nKontakt: Simon Grebasch\n\nWeitere Infos:
  https://www.ref-muensingen.ch/veranstaltung/66787
SUMMARY:Gottesdienst für Chly und Gross
PRIORITY:5
X-MICROSOFT-CDO-IMPORTANCE:1
CLASS:PUBLIC
END:VEVENT
END:VCALENDAR
