BEGIN:VCALENDAR
PRODID:-//kirchenweb.ch gmbh//veranstaltungsausgabe v2.0//DE
VERSION:2.0
METHOD:PUBLISH
BEGIN:VEVENT
DTSTART:20260621T080000Z
DTEND:20260621T090000Z
LOCATION:Ref. Kirche Münsingen\, Bernstrasse 23\, 3110 Münsingen
TRANSP:OPAQUE
SEQUENCE:0
UID:66783-veranstaltung@ref-muensingen.ch
DTSTAMP:20260416T084415Z
DESCRIPTION:Verabschiedung von Verwalterin Erika Wyss\n\nKontakt: Matthias
  Galli\n\nWeitere Infos: https://www.ref-muensingen.ch/veranstaltung/66783
SUMMARY:Gottesdienst
PRIORITY:5
X-MICROSOFT-CDO-IMPORTANCE:1
CLASS:PUBLIC
END:VEVENT
END:VCALENDAR
