BEGIN:VCALENDAR
PRODID:-//kirchenweb.ch gmbh//veranstaltungsausgabe v2.0//DE
VERSION:2.0
METHOD:PUBLISH
BEGIN:VEVENT
DTSTART:20260621T073000Z
DTEND:20260621T083000Z
LOCATION:Ref. Kirche Kleinhöchstetten\, Kleinhöchstetten\, 3113 Rubigen
TRANSP:OPAQUE
SEQUENCE:0
UID:66763-veranstaltung@ref-muensingen.ch
DTSTAMP:20260416T085009Z
DESCRIPTION:Kontakt: Anita Zocchi\n\nWeitere Infos:
  https://www.ref-muensingen.ch/veranstaltung/66763
SUMMARY:Gottesdienst
PRIORITY:5
X-MICROSOFT-CDO-IMPORTANCE:1
CLASS:PUBLIC
END:VEVENT
END:VCALENDAR
