BEGIN:VCALENDAR
PRODID:-//kirchenweb.ch gmbh//veranstaltungsausgabe v2.0//DE
VERSION:2.0
METHOD:PUBLISH
BEGIN:VEVENT
DTSTART:20260607T073000Z
DTEND:20260607T083000Z
LOCATION:Ref. Kirche Kleinhöchstetten\, Kleinhöchstetten\, 3113 Rubigen
TRANSP:OPAQUE
SEQUENCE:0
UID:66762-veranstaltung@ref-muensingen.ch
DTSTAMP:20260416T084902Z
DESCRIPTION:Kontakt: Sydney Gautschi (Vikar)\n\nWeitere Infos:
  https://www.ref-muensingen.ch/veranstaltung/66762
SUMMARY:Gottesdienst
PRIORITY:5
X-MICROSOFT-CDO-IMPORTANCE:1
CLASS:PUBLIC
END:VEVENT
END:VCALENDAR
