BEGIN:VCALENDAR
PRODID:-//kirchenweb.ch gmbh//veranstaltungsausgabe v2.0//DE
VERSION:2.0
METHOD:PUBLISH
BEGIN:VEVENT
DTSTART:20260503T073000Z
DTEND:20260503T083000Z
LOCATION:Ref. Kirche Kleinhöchstetten\, Kleinhöchstetten\, 3113 Rubigen
TRANSP:OPAQUE
SEQUENCE:0
UID:66760-veranstaltung@ref-muensingen.ch
DTSTAMP:20260416T063611Z
DESCRIPTION:Kontakt: Christoph Beutler\n\nWeitere Infos:
  https://www.ref-muensingen.ch/veranstaltung/66760
SUMMARY:Gottesdienst für Chly und Gross
PRIORITY:5
X-MICROSOFT-CDO-IMPORTANCE:1
CLASS:PUBLIC
END:VEVENT
END:VCALENDAR
