BEGIN:VCALENDAR
PRODID:-//kirchenweb.ch gmbh//veranstaltungsausgabe v2.0//DE
VERSION:2.0
METHOD:PUBLISH
BEGIN:VEVENT
DTSTART:20261129T160000Z
DTEND:20261129T170000Z
LOCATION:Ref. Kirche Kleinhöchstetten\, Kleinhöchstetten\, 3113 Rubigen
TRANSP:OPAQUE
SEQUENCE:0
UID:66751-veranstaltung@ref-muensingen.ch
DTSTAMP:20251211T155233Z
DESCRIPTION:Musik im Kerzenlicht mit «Duo Strela» (Marina Vasilyeva\,
  Gesang\, Ocarina und Valéry Burot\, Gitarre\, Gesang). \nGedanken zum
  Advent\,: Pfr. Ch. Beutler\n\n\nKontakt: Christoph Beutler\n\nWeitere
  Infos: https://www.ref-muensingen.ch/veranstaltung/66751
SUMMARY:Musikalische Abendfeier
PRIORITY:5
X-MICROSOFT-CDO-IMPORTANCE:1
CLASS:PUBLIC
END:VEVENT
END:VCALENDAR
