BEGIN:VCALENDAR
PRODID:-//kirchenweb.ch gmbh//veranstaltungsausgabe v2.0//DE
VERSION:2.0
METHOD:PUBLISH
BEGIN:VEVENT
DTSTART:20260726T083000Z
DTEND:20260726T093000Z
LOCATION:Schlosspark\, \, 3110 Münsingen
TRANSP:OPAQUE
SEQUENCE:0
UID:66748-veranstaltung@ref-muensingen.ch
DTSTAMP:20260313T085639Z
DESCRIPTION:Thema: «...». \nAls Abschluss der Sommernächte. Bei
  schlechtem Wetter findet der Gottesdienst im Gemeindesaal Schlossgut
  statt.\n\n\nKontakt: Lore Rahe Schopfer\n\nWeitere Infos:
  https://www.ref-muensingen.ch/veranstaltung/66748
SUMMARY:Ökumenischer Gottesdienst in der Schlossallee
PRIORITY:5
X-MICROSOFT-CDO-IMPORTANCE:1
CLASS:PUBLIC
END:VEVENT
END:VCALENDAR
