BEGIN:VCALENDAR
PRODID:-//kirchenweb.ch gmbh//veranstaltungsausgabe v2.0//DE
VERSION:2.0
METHOD:PUBLISH
BEGIN:VEVENT
DTSTART:20260712T080000Z
DTEND:20260712T090000Z
LOCATION:Pfarrhaus\, Pfarrstutz 1\, 3110 Münsingen
TRANSP:OPAQUE
SEQUENCE:0
UID:66744-veranstaltung@ref-muensingen.ch
DTSTAMP:20251106T141252Z
DESCRIPTION:Gottesdienst im Pfarrhausgarten\, bei schlechtem Wetter in der
  Kirche Münsingen\n\nKontakt: Simon Grebasch\n\nWeitere Infos:
  https://www.ref-muensingen.ch/veranstaltung/66744
SUMMARY:Gottesdienst im Pfarrhausgarten
PRIORITY:5
X-MICROSOFT-CDO-IMPORTANCE:1
CLASS:PUBLIC
END:VEVENT
END:VCALENDAR
