BEGIN:VCALENDAR
PRODID:-//kirchenweb.ch gmbh//veranstaltungsausgabe v2.0//DE
VERSION:2.0
METHOD:PUBLISH
BEGIN:VEVENT
DTSTART:20260524T073000Z
DTEND:20260524T083000Z
LOCATION:Ref. Kirche Kleinhöchstetten\, Kleinhöchstetten\, 3113 Rubigen
TRANSP:OPAQUE
SEQUENCE:0
UID:66742-veranstaltung@ref-muensingen.ch
DTSTAMP:20260312T072436Z
DESCRIPTION:Stefan Rolli\, Saxophon und Barbara Haupt Loosli\, Orgel
  spielen Werke von A. Piazzolla\, G.F. Händel\, E. Bozza\, H. Heilmann
  und J.B. Loeillet. Erleben Sie die Pfingstbotschaft\, umrahmt von
  bunten\, ausdrucksvollen Musikstücken.\n\n\nKontakt: Matthias Galli\n
 \nWeitere Infos: https://www.ref-muensingen.ch/veranstaltung/66742
SUMMARY:Gottesdienst mit Abendmahl zu Pfingsten
PRIORITY:5
X-MICROSOFT-CDO-IMPORTANCE:1
CLASS:PUBLIC
END:VEVENT
END:VCALENDAR
