BEGIN:VCALENDAR
PRODID:-//kirchenweb.ch gmbh//veranstaltungsausgabe v2.0//DE
VERSION:2.0
METHOD:PUBLISH
BEGIN:VEVENT
DTSTART:20260924T100000Z
DTEND:20260924T110000Z
LOCATION:Kirchgemeindehaus Münsingen\, Schlossstrasse 11\, 3110
  Münsingen
TRANSP:OPAQUE
SEQUENCE:0
UID:66238-veranstaltung@ref-muensingen.ch
DTSTAMP:20250626T084323Z
DESCRIPTION:Frauenverein Münsingen\n\nKontakt:
  sandra.altherr@ref-muensingen.ch\n\nWeitere Infos:
  https://www.ref-muensingen.ch/veranstaltung/66238
SUMMARY:Mittagessen für Seniorinnen und Senioren
PRIORITY:5
X-MICROSOFT-CDO-IMPORTANCE:1
CLASS:PUBLIC
END:VEVENT
END:VCALENDAR
