BEGIN:VCALENDAR
PRODID:-//kirchenweb.ch gmbh//veranstaltungsausgabe v2.0//DE
VERSION:2.0
METHOD:PUBLISH
BEGIN:VEVENT
DTSTART:20250707T060000Z
DTEND:20250707T100000Z
LOCATION:Pfarrhaus\, Pfarrstutz 1\, 3110 Münsingen
TRANSP:OPAQUE
SEQUENCE:0
UID:66051-veranstaltung@ref-muensingen.ch
DTSTAMP:20250624T094302Z
DESCRIPTION:Kontakt: Monika Strebel\n\nWeitere Infos:
  https://www.ref-muensingen.ch/veranstaltung/66051
SUMMARY:Pfarrhausgarten Projekt
PRIORITY:5
X-MICROSOFT-CDO-IMPORTANCE:1
CLASS:PUBLIC
END:VEVENT
END:VCALENDAR
