BEGIN:VCALENDAR
PRODID:-//kirchenweb.ch gmbh//veranstaltungsausgabe v2.0//DE
VERSION:2.0
METHOD:PUBLISH
BEGIN:VEVENT
DTSTART:20260514T080000Z
DTEND:20260514T093000Z
LOCATION:Ref. Kirche Münsingen\, Bernstrasse 23\, 3110 Münsingen
TRANSP:OPAQUE
SEQUENCE:0
UID:65833-veranstaltung@ref-muensingen.ch
DTSTAMP:20251222T094424Z
DESCRIPTION:Kontakt: Simon Grebasch\n\nWeitere Infos:
  https://www.ref-muensingen.ch/veranstaltung/65833
SUMMARY:Konfirmation - Klasse 9cd / Simon Grebasch
PRIORITY:5
X-MICROSOFT-CDO-IMPORTANCE:1
CLASS:PUBLIC
END:VEVENT
END:VCALENDAR
