BEGIN:VCALENDAR
PRODID:-//kirchenweb.ch gmbh//veranstaltungsausgabe v2.0//DE
VERSION:2.0
METHOD:PUBLISH
BEGIN:VEVENT
DTSTART:20251205T180000Z
DTEND:20251205T203000Z
LOCATION:Rubigen\, \,
TRANSP:OPAQUE
SEQUENCE:0
UID:65812-veranstaltung@ref-muensingen.ch
DTSTAMP:20250909T123513Z
DESCRIPTION:Kontakt: Alena Bucher\n\nWeitere Infos:
  https://www.ref-muensingen.ch/veranstaltung/65812
SUMMARY:Challenger Crew Rubigen
PRIORITY:5
X-MICROSOFT-CDO-IMPORTANCE:1
CLASS:PUBLIC
END:VEVENT
END:VCALENDAR
