BEGIN:VCALENDAR
PRODID:-//kirchenweb.ch gmbh//veranstaltungsausgabe v2.0//DE
VERSION:2.0
METHOD:PUBLISH
BEGIN:VEVENT
DTSTART:20261216T130000Z
DTEND:20261216T150000Z
LOCATION:Kirchliche Räume\, Worbstrasse 13\, 3113 Rubigen
TRANSP:OPAQUE
SEQUENCE:0
UID:64598-veranstaltung@ref-muensingen.ch
DTSTAMP:20250909T122502Z
DESCRIPTION:Kontakt: Pfr. Christoph Beutler\n\nWeitere Infos:
  https://www.ref-muensingen.ch/veranstaltung/64598
SUMMARY:Seniorennachmittag Kreis 5 Rubigen
PRIORITY:5
X-MICROSOFT-CDO-IMPORTANCE:1
CLASS:PUBLIC
END:VEVENT
END:VCALENDAR
