BEGIN:VCALENDAR
PRODID:-//kirchenweb.ch gmbh//veranstaltungsausgabe v2.0//DE
VERSION:2.0
METHOD:PUBLISH
BEGIN:VEVENT
DTSTART:20250322T100000Z
DTEND:20250322T110000Z
LOCATION:Schlossgutplatz\, Schlossstrasse 11\, 3110 Münsingen
TRANSP:OPAQUE
SEQUENCE:0
UID:64548-veranstaltung@ref-muensingen.ch
DTSTAMP:20250219T075837Z
DESCRIPTION:Kontakt: Pfrn. Anita Zocchi\n\nWeitere Infos:
  https://www.ref-muensingen.ch/veranstaltung/64548
SUMMARY:Friedensgebet
PRIORITY:5
X-MICROSOFT-CDO-IMPORTANCE:1
CLASS:PUBLIC
END:VEVENT
END:VCALENDAR
